BEGIN:VCALENDAR
VERSION:2.0
PRODID:-//Mémoires du Congo - ECPv6.15.20//NONSGML v1.0//EN
CALSCALE:GREGORIAN
METHOD:PUBLISH
X-WR-CALNAME:Mémoires du Congo
X-ORIGINAL-URL:https://www.memoiresducongo.be
X-WR-CALDESC:Évènements pour Mémoires du Congo
REFRESH-INTERVAL;VALUE=DURATION:PT1H
X-Robots-Tag:noindex
X-PUBLISHED-TTL:PT1H
BEGIN:VTIMEZONE
TZID:Europe/Helsinki
BEGIN:DAYLIGHT
TZOFFSETFROM:+0200
TZOFFSETTO:+0300
TZNAME:EEST
DTSTART:20210328T010000
END:DAYLIGHT
BEGIN:STANDARD
TZOFFSETFROM:+0300
TZOFFSETTO:+0200
TZNAME:EET
DTSTART:20211031T010000
END:STANDARD
BEGIN:DAYLIGHT
TZOFFSETFROM:+0200
TZOFFSETTO:+0300
TZNAME:EEST
DTSTART:20220327T010000
END:DAYLIGHT
BEGIN:STANDARD
TZOFFSETFROM:+0300
TZOFFSETTO:+0200
TZNAME:EET
DTSTART:20221030T010000
END:STANDARD
BEGIN:DAYLIGHT
TZOFFSETFROM:+0200
TZOFFSETTO:+0300
TZNAME:EEST
DTSTART:20230326T010000
END:DAYLIGHT
BEGIN:STANDARD
TZOFFSETFROM:+0300
TZOFFSETTO:+0200
TZNAME:EET
DTSTART:20231029T010000
END:STANDARD
END:VTIMEZONE
BEGIN:VEVENT
DTSTART;TZID=Europe/Helsinki:20220408T101500
DTEND;TZID=Europe/Helsinki:20220408T121500
DTSTAMP:20260420T073034
CREATED:20220107T205445Z
LAST-MODIFIED:20240905T194246Z
UID:8068-1649412900-1649420100@www.memoiresducongo.be
SUMMARY:Forum
DESCRIPTION:
URL:https://www.memoiresducongo.be/event/forum-8/
CATEGORIES:Tous
END:VEVENT
BEGIN:VEVENT
DTSTART;TZID=Europe/Helsinki:20220421T113000
DTEND;TZID=Europe/Helsinki:20220421T123000
DTSTAMP:20260420T073034
CREATED:20220107T210530Z
LAST-MODIFIED:20240905T194248Z
UID:8096-1650540600-1650544200@www.memoiresducongo.be
SUMMARY:AG
DESCRIPTION:
URL:https://www.memoiresducongo.be/event/ag/
CATEGORIES:Tous
END:VEVENT
BEGIN:VEVENT
DTSTART;TZID=Europe/Helsinki:20220422T101500
DTEND;TZID=Europe/Helsinki:20220422T121500
DTSTAMP:20260420T073034
CREATED:20220107T205524Z
LAST-MODIFIED:20240905T194246Z
UID:8070-1650622500-1650629700@www.memoiresducongo.be
SUMMARY:Forum
DESCRIPTION:
URL:https://www.memoiresducongo.be/event/forum-9/
CATEGORIES:Tous
END:VEVENT
END:VCALENDAR