BEGIN:VCALENDAR
VERSION:2.0
PRODID:-//Mémoires du Congo - ECPv6.15.20//NONSGML v1.0//EN
CALSCALE:GREGORIAN
METHOD:PUBLISH
X-ORIGINAL-URL:https://www.memoiresducongo.be
X-WR-CALDESC:Évènements pour Mémoires du Congo
REFRESH-INTERVAL;VALUE=DURATION:PT1H
X-Robots-Tag:noindex
X-PUBLISHED-TTL:PT1H
BEGIN:VTIMEZONE
TZID:Europe/Helsinki
BEGIN:DAYLIGHT
TZOFFSETFROM:+0200
TZOFFSETTO:+0300
TZNAME:EEST
DTSTART:20210328T010000
END:DAYLIGHT
BEGIN:STANDARD
TZOFFSETFROM:+0300
TZOFFSETTO:+0200
TZNAME:EET
DTSTART:20211031T010000
END:STANDARD
BEGIN:DAYLIGHT
TZOFFSETFROM:+0200
TZOFFSETTO:+0300
TZNAME:EEST
DTSTART:20220327T010000
END:DAYLIGHT
BEGIN:STANDARD
TZOFFSETFROM:+0300
TZOFFSETTO:+0200
TZNAME:EET
DTSTART:20221030T010000
END:STANDARD
BEGIN:DAYLIGHT
TZOFFSETFROM:+0200
TZOFFSETTO:+0300
TZNAME:EEST
DTSTART:20230326T010000
END:DAYLIGHT
BEGIN:STANDARD
TZOFFSETFROM:+0300
TZOFFSETTO:+0200
TZNAME:EET
DTSTART:20231029T010000
END:STANDARD
END:VTIMEZONE
BEGIN:VEVENT
DTSTART;TZID=Europe/Helsinki:20220208T100000
DTEND;TZID=Europe/Helsinki:20220208T123000
DTSTAMP:20260420T043249
CREATED:20220107T204153Z
LAST-MODIFIED:20240905T194247Z
UID:8037-1644314400-1644323400@www.memoiresducongo.be
SUMMARY:Mardi de Mémoires du Congo
DESCRIPTION:Programme :  \n10h00 :  Ouverture accès zoom. \n10h30 : Mot du Président et \n          Conférence de Peter VERLINDENPeter Verlinden nous présentera son analyse du rapport des experts pour la « Commission Congo » (Parlement belge) et sa vision sur les suites des travaux de la commission.  Il se basera entre autres sur ses derniers livres: « Le colonialisme et le racisme » (Zwarte trots\, witte schaamte\, 2020) et « Le temps colonial vu par les Congolais au Congo » (Tussen herinnering en realiteit\, 2021). \nIl y aura un temps prévu pour des questions et des échanges avec l’auteur-journaliste. \nPeter Verlinden est ancien journaliste de la VRT et auteur de différents livres sur le Congo et le temps colonial. \n12h30 : Clôture \n———  \nL’inscription est obligatoire pour recevoir le lien zoom vers la conférence. Les inscrits recevront le lien 48 h avant le début de celle-ci.L’inscription est gratuite pour les membres de Mémoires du Congo et du CRAOM. Pour les non-membres: 7 euros à verser au compte BE95 3101 7735 2058 de Mémoires du Congo avec la mention « conférence 8 février 2022 » \nInscription via mail adressé à guy.dierckens@memoiresducongo.beDate limite d’inscription : le 5 février 2022.
URL:https://www.memoiresducongo.be/event/mardi-de-memoires-du-congo-7/
CATEGORIES:Tous
END:VEVENT
BEGIN:VEVENT
DTSTART;TZID=Europe/Helsinki:20220211T101500
DTEND;TZID=Europe/Helsinki:20220211T121500
DTSTAMP:20260420T043249
CREATED:20220107T205212Z
LAST-MODIFIED:20240905T194247Z
UID:8060-1644574500-1644581700@www.memoiresducongo.be
SUMMARY:Forum
DESCRIPTION:
URL:https://www.memoiresducongo.be/event/forum-4/
CATEGORIES:Tous
END:VEVENT
BEGIN:VEVENT
DTSTART;TZID=Europe/Helsinki:20220225T101500
DTEND;TZID=Europe/Helsinki:20220225T121500
DTSTAMP:20260420T043249
CREATED:20220107T205249Z
LAST-MODIFIED:20240905T194247Z
UID:8062-1645784100-1645791300@www.memoiresducongo.be
SUMMARY:Forum
DESCRIPTION:
URL:https://www.memoiresducongo.be/event/forum-5/
CATEGORIES:Tous
END:VEVENT
END:VCALENDAR