BEGIN:VCALENDAR
VERSION:2.0
PRODID:-//Mémoires du Congo - ECPv6.15.20//NONSGML v1.0//EN
CALSCALE:GREGORIAN
METHOD:PUBLISH
X-WR-CALNAME:Mémoires du Congo
X-ORIGINAL-URL:https://www.memoiresducongo.be
X-WR-CALDESC:Évènements pour Mémoires du Congo
REFRESH-INTERVAL;VALUE=DURATION:PT1H
X-Robots-Tag:noindex
X-PUBLISHED-TTL:PT1H
BEGIN:VTIMEZONE
TZID:Europe/Helsinki
BEGIN:DAYLIGHT
TZOFFSETFROM:+0200
TZOFFSETTO:+0300
TZNAME:EEST
DTSTART:20200329T010000
END:DAYLIGHT
BEGIN:STANDARD
TZOFFSETFROM:+0300
TZOFFSETTO:+0200
TZNAME:EET
DTSTART:20201025T010000
END:STANDARD
BEGIN:DAYLIGHT
TZOFFSETFROM:+0200
TZOFFSETTO:+0300
TZNAME:EEST
DTSTART:20210328T010000
END:DAYLIGHT
BEGIN:STANDARD
TZOFFSETFROM:+0300
TZOFFSETTO:+0200
TZNAME:EET
DTSTART:20211031T010000
END:STANDARD
BEGIN:DAYLIGHT
TZOFFSETFROM:+0200
TZOFFSETTO:+0300
TZNAME:EEST
DTSTART:20220327T010000
END:DAYLIGHT
BEGIN:STANDARD
TZOFFSETFROM:+0300
TZOFFSETTO:+0200
TZNAME:EET
DTSTART:20221030T010000
END:STANDARD
END:VTIMEZONE
BEGIN:VEVENT
DTSTART;VALUE=DATE:20211203
DTEND;VALUE=DATE:20211204
DTSTAMP:20260420T025428
CREATED:20210217T221641Z
LAST-MODIFIED:20240905T194245Z
UID:7230-1638489600-1638575999@www.memoiresducongo.be
SUMMARY:Forum de Mémoires du Congo
DESCRIPTION:
URL:https://www.memoiresducongo.be/event/forum-de-memoires-du-congo-75/
CATEGORIES:Tous
END:VEVENT
BEGIN:VEVENT
DTSTART;TZID=Europe/Helsinki:20211214T103000
DTEND;TZID=Europe/Helsinki:20211214T160000
DTSTAMP:20260420T025428
CREATED:20210217T221050Z
LAST-MODIFIED:20240905T194247Z
UID:7214-1639477800-1639497600@www.memoiresducongo.be
SUMMARY:Mardi de Mémoires du Congo - annulé
DESCRIPTION:Cher Membre\, \nEn raison de la récente évolution de la situation sanitaire\, nous avons le regret de vous informer que la journée du mardi 14 décembre est annulée. \nNous espérons reprendre nos activités normalement en 2022. \nJe forme également le vœu qu’il vous sera possible de fêter dans la joie la fin de l’année\, sans soucis de Covid ! \n Bien cordialement\,  \nThierry Claeys Bouuaert\nPrésident
URL:https://www.memoiresducongo.be/event/mardi-de-memoires-du-congo-6/
CATEGORIES:Tous
END:VEVENT
BEGIN:VEVENT
DTSTART;VALUE=DATE:20211217
DTEND;VALUE=DATE:20211218
DTSTAMP:20260420T025428
CREATED:20210217T221716Z
LAST-MODIFIED:20240905T194245Z
UID:7232-1639699200-1639785599@www.memoiresducongo.be
SUMMARY:Forum de Mémoires du Congo
DESCRIPTION:
URL:https://www.memoiresducongo.be/event/forum-de-memoires-du-congo-76/
CATEGORIES:Tous
END:VEVENT
END:VCALENDAR