BEGIN:VCALENDAR
VERSION:2.0
PRODID:-//Mémoires du Congo - ECPv6.15.20//NONSGML v1.0//EN
CALSCALE:GREGORIAN
METHOD:PUBLISH
X-ORIGINAL-URL:https://www.memoiresducongo.be
X-WR-CALDESC:Évènements pour Mémoires du Congo
REFRESH-INTERVAL;VALUE=DURATION:PT1H
X-Robots-Tag:noindex
X-PUBLISHED-TTL:PT1H
BEGIN:VTIMEZONE
TZID:Europe/Helsinki
BEGIN:DAYLIGHT
TZOFFSETFROM:+0200
TZOFFSETTO:+0300
TZNAME:EEST
DTSTART:20200329T010000
END:DAYLIGHT
BEGIN:STANDARD
TZOFFSETFROM:+0300
TZOFFSETTO:+0200
TZNAME:EET
DTSTART:20201025T010000
END:STANDARD
BEGIN:DAYLIGHT
TZOFFSETFROM:+0200
TZOFFSETTO:+0300
TZNAME:EEST
DTSTART:20210328T010000
END:DAYLIGHT
BEGIN:STANDARD
TZOFFSETFROM:+0300
TZOFFSETTO:+0200
TZNAME:EET
DTSTART:20211031T010000
END:STANDARD
BEGIN:DAYLIGHT
TZOFFSETFROM:+0200
TZOFFSETTO:+0300
TZNAME:EEST
DTSTART:20220327T010000
END:DAYLIGHT
BEGIN:STANDARD
TZOFFSETFROM:+0300
TZOFFSETTO:+0200
TZNAME:EET
DTSTART:20221030T010000
END:STANDARD
END:VTIMEZONE
BEGIN:VEVENT
DTSTART;VALUE=DATE:20211001
DTEND;VALUE=DATE:20211002
DTSTAMP:20260419T220301
CREATED:20210217T221432Z
LAST-MODIFIED:20240905T194247Z
UID:7222-1633046400-1633132799@www.memoiresducongo.be
SUMMARY:Forum de Mémoires du Congo
DESCRIPTION:Le Forum de « Mémoires du Congo » rassemble les membres actifs de notre association afin de suivre l’évolution des travaux en cours et en  initier d’autres. \nSuite à la pandémie “Coronavirus”\, dans l’esprit de prévention qui nous convient\, Mémoires du Congo asbl a opté pour la tenue de “REUNIONS VIRTUELLES” au travers de la plateforme ZOOM.\nAfin d’y participer\, nous vous invitons à envoyer un  mail au siège de l’association   info@memoiresducongo.be .
URL:https://www.memoiresducongo.be/event/forum-de-memoires-du-congo-71/
CATEGORIES:Tous
END:VEVENT
BEGIN:VEVENT
DTSTART;TZID=Europe/Helsinki:20211012T101500
DTEND;TZID=Europe/Helsinki:20211012T160000
DTSTAMP:20260419T220301
CREATED:20210217T220931Z
LAST-MODIFIED:20240905T194247Z
UID:7210-1634033700-1634054400@www.memoiresducongo.be
SUMMARY:Mardi de Mémoires du Congo
DESCRIPTION:En sa journée du mardi 12 octobre 2021\, Mémoires du Congo vous propose :  \n A 9h 30 : Accueil \n A 10h 15 : \nTémoignage de Charles Léonard.\nCharles Léonard (1927-2020) arrive au Congo en 1953. En 1960 le ministre du plan lui confie la tâche de rédiger les rapports sur la conjoncture économique ce qu’il fera jusque 1993. \n Suivi de : \nConférence du Général Vervoort\n« 17-18 septembre 1961\, l’accident du DC6 de Dag Hammarskjöld:\nune explication simple et cohérente»\nGeneraal Majoor Vlieger Vervoort\, actuellement retraité\, a étudié en détails les circonstances de cet accident \nA 12H30 : Moambe \nA 14h 30 : \n« Kinshasa  Beta Mbonda »\nUn film de Marie-France Plissart \nRetrouvez vos amis à la moambe !\nprojection + moambe : 30 € p/p\nprojection seule : 7 € p/p \nInscription par email envoyé à info@memoiresducongo.be et participation à verser au compte BE95 3101 7735 2058 (nouveau numéro) de « Mémoires du Congo » avant le 5 octobre 2021 avec la mention : « journée 12/10/2021 + nom + nombre de personnes ».\nAttention: Le nombre de places à la moambe et à l’auditorium sont limités ( 80 et 100) et l’inscription préalable est obligatoire.  Vous devez avoir reçu confirmation de votre inscription à la moambe.\n\nMesures COVID\nLe Pass sanitaire est obligatoire.  Le port du masque est obligatoire lors des déplacements.\nIl n’y aura pas de café à l’accueil\, ni de pause après le témoignage de Charles Léonard. \nLes projections et la moambe ont lieu dans le bâtiment CAPA\, Chée de Louvain 17 à Tervuren (à 300 m du musée).   Nous vous prions de retirer le ticket moambe à l’accueil MDC avant 11:00h.\nIl est interdit de se garer le long de la route intérieure au CAPA.  Un parking a été aménagé de l’autre côté de la Chaussée de Louvain.
URL:https://www.memoiresducongo.be/event/mardi-de-memoires-du-congo-4/
LOCATION:CAPA\, Leuvensesteenweg 17\, Tervuren\, 3080
CATEGORIES:Tous
END:VEVENT
BEGIN:VEVENT
DTSTART;VALUE=DATE:20211015
DTEND;VALUE=DATE:20211016
DTSTAMP:20260419T220301
CREATED:20210217T221501Z
LAST-MODIFIED:20240905T194247Z
UID:7224-1634256000-1634342399@www.memoiresducongo.be
SUMMARY:Forum de Mémoires du Congo
DESCRIPTION:Le Forum de « Mémoires du Congo » rassemble les membres actifs de notre association afin de suivre l’évolution des travaux en cours et en  initier d’autres. \nSuite à la pandémie “Coronavirus”\, dans l’esprit de prévention qui nous convient\, Mémoires du Congo asbl a opté pour la tenue de “REUNIONS VIRTUELLES” au travers de la plateforme ZOOM.\nAfin d’y participer\, nous vous invitons à envoyer un  mail au siège de l’association   info@memoiresducongo.be .
URL:https://www.memoiresducongo.be/event/forum-de-memoires-du-congo-72/
CATEGORIES:Tous
END:VEVENT
BEGIN:VEVENT
DTSTART;VALUE=DATE:20211029
DTEND;VALUE=DATE:20211030
DTSTAMP:20260419T220301
CREATED:20210217T221530Z
LAST-MODIFIED:20240905T194245Z
UID:7226-1635465600-1635551999@www.memoiresducongo.be
SUMMARY:Forum de Mémoires du Congo
DESCRIPTION:
URL:https://www.memoiresducongo.be/event/forum-de-memoires-du-congo-73/
CATEGORIES:Tous
END:VEVENT
END:VCALENDAR