BEGIN:VCALENDAR
VERSION:2.0
PRODID:-//Mémoires du Congo - ECPv6.15.20//NONSGML v1.0//EN
CALSCALE:GREGORIAN
METHOD:PUBLISH
X-WR-CALNAME:Mémoires du Congo
X-ORIGINAL-URL:https://www.memoiresducongo.be
X-WR-CALDESC:Évènements pour Mémoires du Congo
REFRESH-INTERVAL;VALUE=DURATION:PT1H
X-Robots-Tag:noindex
X-PUBLISHED-TTL:PT1H
BEGIN:VTIMEZONE
TZID:Europe/Brussels
BEGIN:DAYLIGHT
TZOFFSETFROM:+0100
TZOFFSETTO:+0200
TZNAME:CEST
DTSTART:20250330T010000
END:DAYLIGHT
BEGIN:STANDARD
TZOFFSETFROM:+0200
TZOFFSETTO:+0100
TZNAME:CET
DTSTART:20251026T010000
END:STANDARD
BEGIN:DAYLIGHT
TZOFFSETFROM:+0100
TZOFFSETTO:+0200
TZNAME:CEST
DTSTART:20260329T010000
END:DAYLIGHT
BEGIN:STANDARD
TZOFFSETFROM:+0200
TZOFFSETTO:+0100
TZNAME:CET
DTSTART:20261025T010000
END:STANDARD
BEGIN:DAYLIGHT
TZOFFSETFROM:+0100
TZOFFSETTO:+0200
TZNAME:CEST
DTSTART:20270328T010000
END:DAYLIGHT
BEGIN:STANDARD
TZOFFSETFROM:+0200
TZOFFSETTO:+0100
TZNAME:CET
DTSTART:20271031T010000
END:STANDARD
END:VTIMEZONE
BEGIN:VEVENT
DTSTART;TZID=Europe/Brussels:20260424T100000
DTEND;TZID=Europe/Brussels:20260424T170000
DTSTAMP:20260424T011555
CREATED:20260126T215051Z
LAST-MODIFIED:20260422T065340Z
UID:13919-1777024800-1777050000@www.memoiresducongo.be
SUMMARY:Forum avril 2026
DESCRIPTION:ORDRE DU JOUR \n\n\n\nFORUM n° 366\, du Vendredi 24.04.2026 \n\n\n\n\nPréliminaires :Approbation de :  Compte-rendu du Forum n°365 du 27.03.2026 (Annexe 1)Liste des présences (Annexe 2)\n\nTour d’écran : présentation des invités et des nouveaux participants\n\n\n\n\n\n\n\nSujets d’échange et communicationsMike Embole : SOBICO (Société de Biomasse du Congo)\, https://sobico.com\, établie à Mikwi (Kwilu) est une entreprise qui produit industriellement du charbon de bois écologique avec du bois d’acacia issu de nos propres plantations. Du charbon de bois avec ZERO déforestation et ZERO pollution.Aimé Mbungu : « La superstition africaine de l’art ethnique est européenne »\n\nThierry Claeys Bouuaert et Guy Dierckens :« Naviguer sur le site Web de Mémoires du Congo\, du Rwanda et du Burundi: à la découverte d’un patrimoine mémoriel » https://www.memoiresducongo.be\n\n\n\n\n\n\n\nEvénements\n\nRosy Sambwa : « L’odyssée de la sandale en plastique » – Film de Florian ValléeTours et Taxis\, Bruxelles\, le 15 mai 2026\n\n\n\n\n\n\nProchain numéro du Forum (Nr 367): vendredi 29 mai 2026
URL:https://www.memoiresducongo.be/event/forum-avril-2026/
CATEGORIES:Forum
END:VEVENT
END:VCALENDAR