BEGIN:VCALENDAR
VERSION:2.0
PRODID:-//Mémoires du Congo - ECPv6.15.20//NONSGML v1.0//EN
CALSCALE:GREGORIAN
METHOD:PUBLISH
X-ORIGINAL-URL:https://www.memoiresducongo.be
X-WR-CALDESC:Évènements pour Mémoires du Congo
REFRESH-INTERVAL;VALUE=DURATION:PT1H
X-Robots-Tag:noindex
X-PUBLISHED-TTL:PT1H
BEGIN:VTIMEZONE
TZID:Europe/Helsinki
BEGIN:DAYLIGHT
TZOFFSETFROM:+0200
TZOFFSETTO:+0300
TZNAME:EEST
DTSTART:20210328T010000
END:DAYLIGHT
BEGIN:STANDARD
TZOFFSETFROM:+0300
TZOFFSETTO:+0200
TZNAME:EET
DTSTART:20211031T010000
END:STANDARD
BEGIN:DAYLIGHT
TZOFFSETFROM:+0200
TZOFFSETTO:+0300
TZNAME:EEST
DTSTART:20220327T010000
END:DAYLIGHT
BEGIN:STANDARD
TZOFFSETFROM:+0300
TZOFFSETTO:+0200
TZNAME:EET
DTSTART:20221030T010000
END:STANDARD
BEGIN:DAYLIGHT
TZOFFSETFROM:+0200
TZOFFSETTO:+0300
TZNAME:EEST
DTSTART:20230326T010000
END:DAYLIGHT
BEGIN:STANDARD
TZOFFSETFROM:+0300
TZOFFSETTO:+0200
TZNAME:EET
DTSTART:20231029T010000
END:STANDARD
END:VTIMEZONE
BEGIN:VEVENT
DTSTART;TZID=Europe/Helsinki:20221129T093000
DTEND;TZID=Europe/Helsinki:20221129T150000
DTSTAMP:20260421T122557
CREATED:20220922T095055Z
LAST-MODIFIED:20240905T194249Z
UID:8633-1669714200-1669734000@www.memoiresducongo.be
SUMMARY:Mardi de Mémoires du Congo
DESCRIPTION:A 9h 30 : accueil \nA 10h 15 : \nTémoignage de Marie-Thérèse KnapenProfesseur à l’Université de Lovanium LéopoldvilleElle a collaboré au début de l’Université et y a exercé jusqu’en 1998.Magnifique témoignage plein d’humanité enregistré en juillet 2007. \nSuivi de : \nConférence de Philippe Lindekens : «L’épopée de la poste dans les ex-colonies belgesvia la philatélie\, un voyage avec des pionniers» \nMembre de l’Académie Royale de Philatélie de BelgiqueCo-rédacteur de la revue philatélique «les Congolâtres» \nA 12h 30 : moambe \nRetrouvez vos amis à la moambe !Conférence + moambe : 35 € p/pConférence seule : 7 € p/p \nInscription par email envoyé à info@memoiresducongo.be et participation à verser au compte BE95 3101 7735 2058 de « Mémoires du Congo » avant le 25 novembre 2022 avec la mention : « journée 29/11/2022 + nom + nombre de personnes ».  Attention: Le nombre de places à la moambe et à l’auditorium sont limités et l’inscription préalable est obligatoire.  Tout désistement non renseigné au 26 novembre est considéré comme dû. \nLes projections et la moambe ont lieu dans le bâtiment CAPA\, Chée de Louvain 17 à 3080 Tervuren (à 300 m du musée).   Nous vous prions de retirer le ticket moambe à l’accueil MDC avant 11h 00 (Il est interdit de se garer le long de la route intérieure au CAPA.  Un parking a été aménagé de l’autre côté de la Chaussée de Louvain).
URL:https://www.memoiresducongo.be/event/mardi-de-memoires-du-congo-12/
LOCATION:CAPA\, Leuvensesteenweg 17\, Tervuren\, 3080
CATEGORIES:Tous
END:VEVENT
END:VCALENDAR