BEGIN:VCALENDAR
VERSION:2.0
PRODID:-//Mémoires du Congo - ECPv6.15.20//NONSGML v1.0//EN
CALSCALE:GREGORIAN
METHOD:PUBLISH
X-WR-CALNAME:Mémoires du Congo
X-ORIGINAL-URL:https://www.memoiresducongo.be
X-WR-CALDESC:Évènements pour Mémoires du Congo
REFRESH-INTERVAL;VALUE=DURATION:PT1H
X-Robots-Tag:noindex
X-PUBLISHED-TTL:PT1H
BEGIN:VTIMEZONE
TZID:Europe/Helsinki
BEGIN:DAYLIGHT
TZOFFSETFROM:+0200
TZOFFSETTO:+0300
TZNAME:EEST
DTSTART:20210328T010000
END:DAYLIGHT
BEGIN:STANDARD
TZOFFSETFROM:+0300
TZOFFSETTO:+0200
TZNAME:EET
DTSTART:20211031T010000
END:STANDARD
BEGIN:DAYLIGHT
TZOFFSETFROM:+0200
TZOFFSETTO:+0300
TZNAME:EEST
DTSTART:20220327T010000
END:DAYLIGHT
BEGIN:STANDARD
TZOFFSETFROM:+0300
TZOFFSETTO:+0200
TZNAME:EET
DTSTART:20221030T010000
END:STANDARD
BEGIN:DAYLIGHT
TZOFFSETFROM:+0200
TZOFFSETTO:+0300
TZNAME:EEST
DTSTART:20230326T010000
END:DAYLIGHT
BEGIN:STANDARD
TZOFFSETFROM:+0300
TZOFFSETTO:+0200
TZNAME:EET
DTSTART:20231029T010000
END:STANDARD
END:VTIMEZONE
BEGIN:VEVENT
DTSTART;VALUE=DATE:20220828
DTEND;VALUE=DATE:20220829
DTSTAMP:20260421T182953
CREATED:20220619T061213Z
LAST-MODIFIED:20240905T194248Z
UID:8473-1661644800-1661731199@www.memoiresducongo.be
SUMMARY:Fête - Les 20 ans de Mémoires du Congo
DESCRIPTION:Invitation \nRendez-vous d’été à Genvalle 28 août 2022 \nLes inscriptions sont closes pour cet évènement. \nPROGRAMME\n10h 00 :   Accueil\, bar ouvert. \n10h 00 :  – Les Tshokwe aujourd’hui \n–  Barly Baruti : « Villages flamboyants » \n–  Bookutani : auteurs congolais (romans\, BD) \n–  WAX vlisco (sous réserve) \n–  Boîtes de jeu congolaises. \n–  Livres\, revues et DVD\, venant du stock de Mémoires du Congo\, neufs et deuxième main. \n–  Brocante : l’occasion de vous débarrasser d’objets et de livres sur le Congo\, le Rwanda et le Burundi \n Info: Marc GEORGES\, +32/(0)477.49.14.15 \n  \n13h 00 :  Buffet « Meka saveur »\, traiteur congolais \nDessert + café \n  \n15h 00-17h00 :  Invitation à la rumba congolaise :            Dizzy Mandjeku & Odemba OK Jazz Allstars \n  \n18h 00 : Bar fermé. \n  \nAdresse : \nLe Mahiermont \nRue Jean-Baptiste Stouffs\, 12 1332 Genval \nVenez avec vos amis ! \nLes inscriptions sont closes.\nParticipation à verser au compte BE95 3101 7735 2058 de « Mémoires du Congo » avantle 15 août 2022 avec la mention : « Journée du 28 août 2022 + nom + nombre de personnes (+ âge enfants le cas échéant) ; (+ No de téléphone pour non-membres ou sans email) » \nSeul le paiement dans les délais vaut inscription définitive** sous réserve de place disponible. A défaut le remboursement se fera immédiatement. \nParticipation : 45\,00 €Enfants de moins de 8 ans : gratuit.Enfants de 8 à 18 ans : 20\,00 € \ninfo@memoiresducongo.betel : 0486 468 339 \n                            Version en pdf
URL:https://www.memoiresducongo.be/event/fete-du-28-aout-2022/
LOCATION:Genval\, Belgique
CATEGORIES:Tous
END:VEVENT
END:VCALENDAR