BEGIN:VCALENDAR
VERSION:2.0
PRODID:-//Mémoires du Congo - ECPv6.15.20//NONSGML v1.0//EN
CALSCALE:GREGORIAN
METHOD:PUBLISH
X-WR-CALNAME:Mémoires du Congo
X-ORIGINAL-URL:https://www.memoiresducongo.be
X-WR-CALDESC:Évènements pour Mémoires du Congo
REFRESH-INTERVAL;VALUE=DURATION:PT1H
X-Robots-Tag:noindex
X-PUBLISHED-TTL:PT1H
BEGIN:VTIMEZONE
TZID:Europe/Helsinki
BEGIN:DAYLIGHT
TZOFFSETFROM:+0200
TZOFFSETTO:+0300
TZNAME:EEST
DTSTART:20210328T010000
END:DAYLIGHT
BEGIN:STANDARD
TZOFFSETFROM:+0300
TZOFFSETTO:+0200
TZNAME:EET
DTSTART:20211031T010000
END:STANDARD
BEGIN:DAYLIGHT
TZOFFSETFROM:+0200
TZOFFSETTO:+0300
TZNAME:EEST
DTSTART:20220327T010000
END:DAYLIGHT
BEGIN:STANDARD
TZOFFSETFROM:+0300
TZOFFSETTO:+0200
TZNAME:EET
DTSTART:20221030T010000
END:STANDARD
BEGIN:DAYLIGHT
TZOFFSETFROM:+0200
TZOFFSETTO:+0300
TZNAME:EEST
DTSTART:20230326T010000
END:DAYLIGHT
BEGIN:STANDARD
TZOFFSETFROM:+0300
TZOFFSETTO:+0200
TZNAME:EET
DTSTART:20231029T010000
END:STANDARD
END:VTIMEZONE
BEGIN:VEVENT
DTSTART;TZID=Europe/Helsinki:20220614T100000
DTEND;TZID=Europe/Helsinki:20220614T140000
DTSTAMP:20260422T122903
CREATED:20220107T204509Z
LAST-MODIFIED:20240905T194248Z
UID:8046-1655200800-1655215200@www.memoiresducongo.be
SUMMARY:Mardi de Mémoires du Congo
DESCRIPTION:  A 9h 30               Accueil \n  A 10h 15 \nClémentine Faik-NzujiProfesseure\, écrivaine\, poète\, Clémentine Nzuji nous parlera de sa vie\, ses recherches et son implication dans une transmission réussie auprès des plus jeunes.Cette causerie débutera par un documentaire sur les objets. \nSuivi de : \nConférence :« 40 ans d’entomologie africaine »\, \npar Claude JolyClaude Joly nous raconte sa double carrière\, d’abord à la FAO et ensuite sa passion pour la science des insectes de toute l’Afrique et plus particulièrement celle du Congo.  \nA 13h 00      Moambe.  \nRetrouvez vos amis à la moambe !Conférence + moambe : 35 € p/pConférence seule : 7 € p/p \nInscription par email envoyé à info@memoiresducongo.be et participation à verser au compte BE95 3101 7735 2058 de « Mémoires du Congo » avant le 7 juin 2022 avec la mention : « journée 14/06/2022 + nom + nombre de personnes ».Attention: Le nombre de places à la moambe et à l’auditorium sont limités et l’inscription préalable est obligatoire. \nLes projections et la moambe ont lieu dans le bâtiment CAPA\, Chée de Louvain 17 à Tervuren (à 300 m du musée).   Nous vous prions de retirer le ticket moambe à l’accueil MDC avant 11:00h.Il est interdit de se garer le long de la route intérieure au CAPA.  Un parking a été aménagé de l’autre côté de la Chaussée de Louvain.
URL:https://www.memoiresducongo.be/event/mardi-de-memoires-du-congo-10/
LOCATION:CAPA\, Leuvensesteenweg 17\, Tervuren\, 3080
CATEGORIES:Tous
END:VEVENT
END:VCALENDAR