BEGIN:VCALENDAR
VERSION:2.0
PRODID:-//Mémoires du Congo - ECPv6.15.20//NONSGML v1.0//EN
CALSCALE:GREGORIAN
METHOD:PUBLISH
X-WR-CALNAME:Mémoires du Congo
X-ORIGINAL-URL:https://www.memoiresducongo.be
X-WR-CALDESC:Évènements pour Mémoires du Congo
REFRESH-INTERVAL;VALUE=DURATION:PT1H
X-Robots-Tag:noindex
X-PUBLISHED-TTL:PT1H
BEGIN:VTIMEZONE
TZID:Europe/Helsinki
BEGIN:DAYLIGHT
TZOFFSETFROM:+0200
TZOFFSETTO:+0300
TZNAME:EEST
DTSTART:20210328T010000
END:DAYLIGHT
BEGIN:STANDARD
TZOFFSETFROM:+0300
TZOFFSETTO:+0200
TZNAME:EET
DTSTART:20211031T010000
END:STANDARD
BEGIN:DAYLIGHT
TZOFFSETFROM:+0200
TZOFFSETTO:+0300
TZNAME:EEST
DTSTART:20220327T010000
END:DAYLIGHT
BEGIN:STANDARD
TZOFFSETFROM:+0300
TZOFFSETTO:+0200
TZNAME:EET
DTSTART:20221030T010000
END:STANDARD
BEGIN:DAYLIGHT
TZOFFSETFROM:+0200
TZOFFSETTO:+0300
TZNAME:EEST
DTSTART:20230326T010000
END:DAYLIGHT
BEGIN:STANDARD
TZOFFSETFROM:+0300
TZOFFSETTO:+0200
TZNAME:EET
DTSTART:20231029T010000
END:STANDARD
END:VTIMEZONE
BEGIN:VEVENT
DTSTART;TZID=Europe/Helsinki:20220318T120000
DTEND;TZID=Europe/Helsinki:20220318T170000
DTSTAMP:20260420T073033
CREATED:20220303T141404Z
LAST-MODIFIED:20240905T194247Z
UID:8333-1647604800-1647622800@www.memoiresducongo.be
SUMMARY:Déjeuner-Conférence
DESCRIPTION:Cher Membre\, \n\n\n\nLe Cercle Royal Africain et de l’Outre-Mer vous prie d’assister\, en partenariat avec Mémoires du Congo\, au déjeuner – conférence qu’il organisera le vendredi 18 mars 2022 au NH Collection du Grand Sablon\, place du Grand Sablon à Bruxelles à partir de 12 heures. \n\n\n\n« 60 ans\, 60 lieux\, 60 témoins.   Histoires partagées entre le Congo et la Belgique »  \n\n\n\nPar Monsieur Baudouin Peeters  Membre du Cercle Royal Africain et de l’Outre-Mer\,  Secrétaire général de l’URBA –  Union Royale Belgo-Africaine (ex-UROME)\,  Managing Director Dynamedia\, Dynamedia Congo et Simbabel.  \n\n\n\nInscription par virement de 50\,- € avant le 15 mars 2022 au compte BNP Paribas Fortis BE10 0014 8191 7904 du CRAOM avec la mention « déjeuner du 18 mars 2022\, MDC\, Mr/Me…… » (vos nom et prénom plus invités). Tout désistement non renseigné 48h calendrier à l’avance est considéré comme dû. \nNous vous prions d’agréer\, Cher Membre\, l’assurance de nos sentiments les meilleurs. \n\n\n\nThierry Claeys Bouuaert Président \n\n\n\nCode vestimentaire : tenue de ville\, cravate.  \n\n\n\nLe Covid Save Ticket est obligatoire. 
URL:https://www.memoiresducongo.be/event/dejeuner-conference-2/
CATEGORIES:Tous
END:VEVENT
END:VCALENDAR