BEGIN:VCALENDAR
VERSION:2.0
PRODID:-//Mémoires du Congo - ECPv6.15.20//NONSGML v1.0//EN
CALSCALE:GREGORIAN
METHOD:PUBLISH
X-ORIGINAL-URL:https://www.memoiresducongo.be
X-WR-CALDESC:Évènements pour Mémoires du Congo
REFRESH-INTERVAL;VALUE=DURATION:PT1H
X-Robots-Tag:noindex
X-PUBLISHED-TTL:PT1H
BEGIN:VTIMEZONE
TZID:Europe/Helsinki
BEGIN:DAYLIGHT
TZOFFSETFROM:+0200
TZOFFSETTO:+0300
TZNAME:EEST
DTSTART:20200329T010000
END:DAYLIGHT
BEGIN:STANDARD
TZOFFSETFROM:+0300
TZOFFSETTO:+0200
TZNAME:EET
DTSTART:20201025T010000
END:STANDARD
BEGIN:DAYLIGHT
TZOFFSETFROM:+0200
TZOFFSETTO:+0300
TZNAME:EEST
DTSTART:20210328T010000
END:DAYLIGHT
BEGIN:STANDARD
TZOFFSETFROM:+0300
TZOFFSETTO:+0200
TZNAME:EET
DTSTART:20211031T010000
END:STANDARD
BEGIN:DAYLIGHT
TZOFFSETFROM:+0200
TZOFFSETTO:+0300
TZNAME:EEST
DTSTART:20220327T010000
END:DAYLIGHT
BEGIN:STANDARD
TZOFFSETFROM:+0300
TZOFFSETTO:+0200
TZNAME:EET
DTSTART:20221030T010000
END:STANDARD
END:VTIMEZONE
BEGIN:VEVENT
DTSTART;TZID=Europe/Helsinki:20211109T103000
DTEND;TZID=Europe/Helsinki:20211109T160000
DTSTAMP:20260420T011942
CREATED:20210217T221011Z
LAST-MODIFIED:20240905T194247Z
UID:7212-1636453800-1636473600@www.memoiresducongo.be
SUMMARY:Mardi de Mémoires du Congo
DESCRIPTION:  A 9h30 : Accueil \n  A 10h15 : Témoignage du Docteur Courtejoie.\nLe Docteur Courtejoie\, promoteur du CPS de Kangu\, nous a quittés récemment.  Témoignage enregistré en 2013 lors de l’un de nos forums. \nSuivi de : Conférence de Jean Delbecque\n«Lettres de mon père : emploi du temps d’un agent itinérant de la Cotonco\, avant et pendant la guerre (Congo et Moyen Orient) 1939-1946»  \nA 12h30 : Moambe \nA 14h30 : En avant-première des 20 ans de MDC nous avons le plaisir de programmer un film au plus près des\n« Réalités Congolaises »\, un film de Robert Bodson\nLe Congo au temps des Belges (1954). \n—- \nRetrouvez vos amis à la moambe !\nprojection + moambe : 30 € p/p\nprojection seule : 7 € p/p \nInscription par email envoyé à info@memoiresducongo.be et participation à verser au compte BE95 3101 7735 2058 (nouveau numéro) de « Mémoires du Congo » avant le 2 novembre 2021 avec la mention : « journée 9/11/2021 + nom + nombre de personnes ».\nAttention: le nombre de places à la moambe et à l’auditorium est limité (80 et 100) et l’inscription préalable est obligatoire.  Vous devez avoir reçu confirmation de votre inscription.\n\nMesures COVID \nLe Covid Safe Ticket est obligatoire.  Le port du masque est obligatoire lors des déplacements. \nIl n’y aura pas de café à l’accueil\, ni de pause après le témoignage du Dr Courtejoie. \nLes projections et la moambe ont lieu dans le bâtiment CAPA\, Chaussée de Louvain 17 à Tervuren (à 300 m du musée).   Nous vous prions de retirer le ticket moambe à l’accueil MDC avant 11:00h.\nIl est interdit de se garer le long de la route intérieure au CAPA.  Un parking a été aménagé de l’autre côté de la Chaussée de Louvain.
URL:https://www.memoiresducongo.be/event/mardi-de-memoires-du-congo-5/
LOCATION:CAPA\, Leuvensesteenweg 17\, Tervuren\, 3080
CATEGORIES:Tous
END:VEVENT
END:VCALENDAR